BEGIN:VCALENDAR
VERSION:1.0
PRODID:Open2CKalenderExportV11
BEGIN:VEVENT
DTSTAMP:20260414T063757Z
DTSTART:20260520T200000Z
DTEND:20260520T210000Z
CATEGORIES:Konzerte
SUMMARY:Kultursommer am Heimatmuseum - Musikverein Niederstaufen
DESCRIPTION:Während des Konzerts werden Getränke verkauft.  | Organisator   AK Kultur
LOCATION:Dorfplatz am Heimatmuseum
 Dorfstraße 20
 88138 Hergensweiler
UID:3b355ff8ce26793f79d71e2a3ce720b1-c03d993a629a16686186c2a97204e66a
PRIORITY:3
END:VEVENT
END:VCALENDAR
